BEGIN:VCALENDAR
VERSION:2.0
PRODID:-//People with Disability Australia - ECPv6.15.20//NONSGML v1.0//EN
CALSCALE:GREGORIAN
METHOD:PUBLISH
X-ORIGINAL-URL:https://pwd.org.au
X-WR-CALDESC:Events for People with Disability Australia
REFRESH-INTERVAL;VALUE=DURATION:PT1H
X-Robots-Tag:noindex
X-PUBLISHED-TTL:PT1H
BEGIN:VTIMEZONE
TZID:UTC
BEGIN:STANDARD
TZOFFSETFROM:+0000
TZOFFSETTO:+0000
TZNAME:UTC
DTSTART:20250101T000000
END:STANDARD
END:VTIMEZONE
BEGIN:VEVENT
DTSTART;TZID=UTC:20260512T100000
DTEND;TZID=UTC:20260512T120000
DTSTAMP:20260423T234018
CREATED:20260211T102453Z
LAST-MODIFIED:20260211T103019Z
UID:15187-1778580000-1778587200@pwd.org.au
SUMMARY:Salvos City Community Support Hub - Central May
DESCRIPTION:Connect with the team from People with Disability Australia to find out more about our advocacy and membership. We can help with housing\, health\, education\, police\, public transport\, guardianship\, and more. \nWe’ll be available at Community Support Hub at St Andrew’s Cathedral Sydney. \nOur individual advocates are trained professionals who support or work on behalf of a person with disability to support them to speak out and defend their rights and interests as well as sort out complaints\, issues and problems. The service is free and confidential. \nBookings not required. \nFor more information about the events call Sydney City Salvos
URL:https://pwd.org.au/event/salvos-city-community-support-hub-central-april/
LOCATION:St Andrew’s Cathedral Sydney.\, George St & Bathurst St\, Sydney
CATEGORIES:Networking event,Outreach & clinics
ATTACH;FMTTYPE=image/jpeg:https://pwd.org.au/wp-content/uploads/2025/04/PWDA-Event-Page-Image-1.jpg
END:VEVENT
END:VCALENDAR