BEGIN:VCALENDAR
VERSION:2.0
PRODID:-//People with Disability Australia - ECPv6.15.17//NONSGML v1.0//EN
CALSCALE:GREGORIAN
METHOD:PUBLISH
X-ORIGINAL-URL:https://pwd.org.au
X-WR-CALDESC:Events for People with Disability Australia
REFRESH-INTERVAL;VALUE=DURATION:PT1H
X-Robots-Tag:noindex
X-PUBLISHED-TTL:PT1H
BEGIN:VTIMEZONE
TZID:Australia/Melbourne
BEGIN:STANDARD
TZOFFSETFROM:+1100
TZOFFSETTO:+1000
TZNAME:AEST
DTSTART:20240406T160000
END:STANDARD
BEGIN:DAYLIGHT
TZOFFSETFROM:+1000
TZOFFSETTO:+1100
TZNAME:AEDT
DTSTART:20241005T160000
END:DAYLIGHT
BEGIN:STANDARD
TZOFFSETFROM:+1100
TZOFFSETTO:+1000
TZNAME:AEST
DTSTART:20250405T160000
END:STANDARD
BEGIN:DAYLIGHT
TZOFFSETFROM:+1000
TZOFFSETTO:+1100
TZNAME:AEDT
DTSTART:20251004T160000
END:DAYLIGHT
BEGIN:STANDARD
TZOFFSETFROM:+1100
TZOFFSETTO:+1000
TZNAME:AEST
DTSTART:20260404T160000
END:STANDARD
BEGIN:DAYLIGHT
TZOFFSETFROM:+1000
TZOFFSETTO:+1100
TZNAME:AEDT
DTSTART:20261003T160000
END:DAYLIGHT
END:VTIMEZONE
BEGIN:VEVENT
DTSTART;TZID=Australia/Melbourne:20251113T180000
DTEND;TZID=Australia/Melbourne:20251113T193000
DTSTAMP:20260419T234010
CREATED:20241025T005755Z
LAST-MODIFIED:20251027T040744Z
UID:12955-1763056800-1763062200@pwd.org.au
SUMMARY:PWDA Annual General Meeting
DESCRIPTION:The PWDA Annual General Meeting (AGM) will be held online via Zoom \n\n6:00pm – 8:00pm AEDT (Sydney\, Melbourne\, ACT\, Tasmania)\n5:00pm – 7:00pm AEST (Brisbane)\n5:30pm – 7:30pm ACDT (Adelaide)\n4:30pm – 6:30pm ACST (Darwin)\n3:00pm – 5:00pm AWST (Perth)\n\nThis is a PWDA members only event. \nMembers must register to attend by 5pm AEDT on Monday 10 November 2025. \nPWDA members can register for the PWDA Annual General Meeting by: \nAll current PWDA Members should have received a Notice of Annual General Meeting (AGM) email or postal pack with information on how to register. If you have any questions or need assistance\, please contact PWDA at pwd@pwd.org.au or call 1800 422 015. \nAfter you register you will be sent the AGM Zoom link via email. \nIMPORTANT: If you do not receive the AGM Zoom link by Wednesday 12 November 2025\, please check your spam/junk mail or contact PWDA.
URL:https://pwd.org.au/event/pwda-agm/
LOCATION:Online
CATEGORIES:Member Event
ATTACH;FMTTYPE=image/png:https://pwd.org.au/wp-content/uploads/2024/10/PWDA-2025-AGM-.png
END:VEVENT
END:VCALENDAR