BEGIN:VCALENDAR
VERSION:2.0
PRODID:-//People with Disability Australia - ECPv6.15.17//NONSGML v1.0//EN
CALSCALE:GREGORIAN
METHOD:PUBLISH
X-ORIGINAL-URL:https://pwd.org.au
X-WR-CALDESC:Events for People with Disability Australia
REFRESH-INTERVAL;VALUE=DURATION:PT1H
X-Robots-Tag:noindex
X-PUBLISHED-TTL:PT1H
BEGIN:VTIMEZONE
TZID:Australia/Melbourne
BEGIN:STANDARD
TZOFFSETFROM:+1100
TZOFFSETTO:+1000
TZNAME:AEST
DTSTART:20240406T160000
END:STANDARD
BEGIN:DAYLIGHT
TZOFFSETFROM:+1000
TZOFFSETTO:+1100
TZNAME:AEDT
DTSTART:20241005T160000
END:DAYLIGHT
BEGIN:STANDARD
TZOFFSETFROM:+1100
TZOFFSETTO:+1000
TZNAME:AEST
DTSTART:20250405T160000
END:STANDARD
BEGIN:DAYLIGHT
TZOFFSETFROM:+1000
TZOFFSETTO:+1100
TZNAME:AEDT
DTSTART:20251004T160000
END:DAYLIGHT
BEGIN:STANDARD
TZOFFSETFROM:+1100
TZOFFSETTO:+1000
TZNAME:AEST
DTSTART:20260404T160000
END:STANDARD
BEGIN:DAYLIGHT
TZOFFSETFROM:+1000
TZOFFSETTO:+1100
TZNAME:AEDT
DTSTART:20261003T160000
END:DAYLIGHT
END:VTIMEZONE
BEGIN:VEVENT
DTSTART;TZID=Australia/Melbourne:20251203T130000
DTEND;TZID=Australia/Melbourne:20251203T143000
DTSTAMP:20260419T233851
CREATED:20241111T052734Z
LAST-MODIFIED:20251120T062609Z
UID:13058-1764766800-1764772200@pwd.org.au
SUMMARY:A Voice of Our Own Online Conference
DESCRIPTION:This International Day of People with Disability (IDPwD)\, we invite you to join us for a national online conference designed by and for people with disability. \nThe program includes an exciting line-up of disability advocates and activists who are leading the way in creating change. \nA Voice of Our Own is more than an event\, it is a chance for our community to come together\, connect\, celebrate achievements and discuss our future. \nWhen: Wednesday 3 December 2025 \nTime: \n\n1:00pm – 2:30pm (AEDT – NSW\, VIC\, TAS and ACT)\n12:30pm – 2:00pm (ACDT – SA)\n12:00pm – 1:30pm (AEST – QLD)\n11:30am – 1:00pm (ACST– NT)\n10:00am – 11:30am (AWST – WA)\n\nWhere: Online \n Register now.\nMeet your speakers: \nAll keynote speakers\, panelists and facilitators are people with disability. \n\nTim Harte\nDaniel McDonald\nRuth O’Brien\nZoe Simmons\nRicki Spencer\nAlexander Tofler\nDaniel Flynn\, Interim President PWDA\nSteph Travers\, Interim Board Secretary PWDA\nTahlia-Rose Vanissum\, Board Director PWDA\nMegan Spindler-Smith\, Acting CEO PWDA
URL:https://pwd.org.au/event/a-voice-of-our-own-conference/
LOCATION:Online
CATEGORIES:Member Event,Webinar
ATTACH;FMTTYPE=image/png:https://pwd.org.au/wp-content/uploads/2024/11/A-voice-of-our-own-Ad-1.png
END:VEVENT
END:VCALENDAR