BEGIN:VCALENDAR
VERSION:2.0
PRODID:-//People with Disability Australia - ECPv6.15.20//NONSGML v1.0//EN
CALSCALE:GREGORIAN
METHOD:PUBLISH
X-ORIGINAL-URL:https://pwd.org.au
X-WR-CALDESC:Events for People with Disability Australia
REFRESH-INTERVAL;VALUE=DURATION:PT1H
X-Robots-Tag:noindex
X-PUBLISHED-TTL:PT1H
BEGIN:VTIMEZONE
TZID:Australia/Melbourne
BEGIN:STANDARD
TZOFFSETFROM:+1100
TZOFFSETTO:+1000
TZNAME:AEST
DTSTART:20240406T160000
END:STANDARD
BEGIN:DAYLIGHT
TZOFFSETFROM:+1000
TZOFFSETTO:+1100
TZNAME:AEDT
DTSTART:20241005T160000
END:DAYLIGHT
BEGIN:STANDARD
TZOFFSETFROM:+1100
TZOFFSETTO:+1000
TZNAME:AEST
DTSTART:20250405T160000
END:STANDARD
BEGIN:DAYLIGHT
TZOFFSETFROM:+1000
TZOFFSETTO:+1100
TZNAME:AEDT
DTSTART:20251004T160000
END:DAYLIGHT
BEGIN:STANDARD
TZOFFSETFROM:+1100
TZOFFSETTO:+1000
TZNAME:AEST
DTSTART:20260404T160000
END:STANDARD
BEGIN:DAYLIGHT
TZOFFSETFROM:+1000
TZOFFSETTO:+1100
TZNAME:AEDT
DTSTART:20261003T160000
END:DAYLIGHT
END:VTIMEZONE
BEGIN:VEVENT
DTSTART;TZID=Australia/Melbourne:20250722T133000
DTEND;TZID=Australia/Melbourne:20250722T143000
DTSTAMP:20260426T013435
CREATED:20250710T085738Z
LAST-MODIFIED:20250710T085738Z
UID:14289-1753191000-1753194600@pwd.org.au
SUMMARY:Online Member Mingle - 2025 Director Nomination and Board Election Information Session
DESCRIPTION:National Online Member Mingle – 2025 Director Nomination and Board Election Information Session\nThis PWDA national online member-only event is a great opportunity for you to connect with fellow members and learn about the upcoming PWDA 2025 Director Nomination and Board Election Board election process. \nDuring the information session we will cover key dates\, how to nominate\, eligibility\, election process and answer any of your questions. \nWhen: Tuesday 22 July 2025\n\n1.30pm – 2:30pm AEST (Sydney\, Melbourne\, Brisbane\, Canberra\, Tasmania)\n1.00pm – 2.00pm ACST (Adelaide\, Darwin)\n11.30am – 12.30pm AWST (Perth)\n\nWhere: Zoom (Access link will be sent following registration)\nCost: Free\n Register now \n\n\n\n\n\n\nAccessibility\nThis event will have live captioning and Auslan interpretation. You can provide details of other access requirements when registering.
URL:https://pwd.org.au/event/online-member-mingle-2025-director-nomination-and-board-election-information-session/
LOCATION:Online
CATEGORIES:Member Event
ATTACH;FMTTYPE=image/png:https://pwd.org.au/wp-content/uploads/2025/07/PWDA-Member-Mingle-Banner-22-July.png
END:VEVENT
END:VCALENDAR