BEGIN:VCALENDAR
VERSION:2.0
PRODID:-//People with Disability Australia - ECPv6.15.20//NONSGML v1.0//EN
CALSCALE:GREGORIAN
METHOD:PUBLISH
X-WR-CALNAME:People with Disability Australia
X-ORIGINAL-URL:https://pwd.org.au
X-WR-CALDESC:Events for People with Disability Australia
REFRESH-INTERVAL;VALUE=DURATION:PT1H
X-Robots-Tag:noindex
X-PUBLISHED-TTL:PT1H
BEGIN:VTIMEZONE
TZID:Australia/Melbourne
BEGIN:STANDARD
TZOFFSETFROM:+1100
TZOFFSETTO:+1000
TZNAME:AEST
DTSTART:20250405T160000
END:STANDARD
BEGIN:DAYLIGHT
TZOFFSETFROM:+1000
TZOFFSETTO:+1100
TZNAME:AEDT
DTSTART:20251004T160000
END:DAYLIGHT
BEGIN:STANDARD
TZOFFSETFROM:+1100
TZOFFSETTO:+1000
TZNAME:AEST
DTSTART:20260404T160000
END:STANDARD
BEGIN:DAYLIGHT
TZOFFSETFROM:+1000
TZOFFSETTO:+1100
TZNAME:AEDT
DTSTART:20261003T160000
END:DAYLIGHT
BEGIN:STANDARD
TZOFFSETFROM:+1100
TZOFFSETTO:+1000
TZNAME:AEST
DTSTART:20270403T160000
END:STANDARD
BEGIN:DAYLIGHT
TZOFFSETFROM:+1000
TZOFFSETTO:+1100
TZNAME:AEDT
DTSTART:20271002T160000
END:DAYLIGHT
END:VTIMEZONE
BEGIN:VEVENT
DTSTART;TZID=Australia/Melbourne:20260201T093000
DTEND;TZID=Australia/Melbourne:20260201T160000
DTSTAMP:20260422T031024
CREATED:20250114T235604Z
LAST-MODIFIED:20260201T211331Z
UID:13325-1769938200-1769961600@pwd.org.au
SUMMARY:Melbourne Midsumma Pride March and Member Mingle
DESCRIPTION:2026 Melbourne Midsumma Pride March and Member Mingle\nPWDA members are invited to join PWDA in the 2026 Melbourne Midsumma Pride March on Sunday 1 February. \nFollowing PWDA’s march from 11:00am – 1pm we invite PWDA members and everyone from our group to join us for a casual Member Mingle picnic at the end of the march. Friends and family members who may not have joined the march are welcome to attend as well. \nPlease note: PWDA cannot assist with interstate travel to attend the event. \nWhen: Sunday 1 February 2026Where: Fitzroy St and end in Catani Gardens\, St Kilda \nAll march participants will need to be on site from approximately 9:40am\, with the parade starting at 10.30am. \nFollowing the parade you are welcome to attend the post-march celebrations at Catani Gardens. The PWDA group will find a spot together at the end of the parade. \nPlease visit the Midsumma Festival website for more details on the 2026 Midsumma Pride March.
URL:https://pwd.org.au/event/melbourne-midsumma-pride-march/
LOCATION:Fitzroy St and end in Catani Gardens\, St Kilda\, Fitzroy St\, St Kilda\, Victoria\, 3182\, Australia
CATEGORIES:Member Event
ATTACH;FMTTYPE=image/jpeg:https://pwd.org.au/wp-content/uploads/2025/03/Midsumma-Group-edited-e1769650769174.jpg
END:VEVENT
END:VCALENDAR