BEGIN:VCALENDAR
VERSION:2.0
PRODID:-//People with Disability Australia - ECPv6.15.20//NONSGML v1.0//EN
CALSCALE:GREGORIAN
METHOD:PUBLISH
X-WR-CALNAME:People with Disability Australia
X-ORIGINAL-URL:https://pwd.org.au
X-WR-CALDESC:Events for People with Disability Australia
REFRESH-INTERVAL;VALUE=DURATION:PT1H
X-Robots-Tag:noindex
X-PUBLISHED-TTL:PT1H
BEGIN:VTIMEZONE
TZID:Australia/Melbourne
BEGIN:STANDARD
TZOFFSETFROM:+1100
TZOFFSETTO:+1000
TZNAME:AEST
DTSTART:20240406T160000
END:STANDARD
BEGIN:DAYLIGHT
TZOFFSETFROM:+1000
TZOFFSETTO:+1100
TZNAME:AEDT
DTSTART:20241005T160000
END:DAYLIGHT
BEGIN:STANDARD
TZOFFSETFROM:+1100
TZOFFSETTO:+1000
TZNAME:AEST
DTSTART:20250405T160000
END:STANDARD
BEGIN:DAYLIGHT
TZOFFSETFROM:+1000
TZOFFSETTO:+1100
TZNAME:AEDT
DTSTART:20251004T160000
END:DAYLIGHT
BEGIN:STANDARD
TZOFFSETFROM:+1100
TZOFFSETTO:+1000
TZNAME:AEST
DTSTART:20260404T160000
END:STANDARD
BEGIN:DAYLIGHT
TZOFFSETFROM:+1000
TZOFFSETTO:+1100
TZNAME:AEDT
DTSTART:20261003T160000
END:DAYLIGHT
END:VTIMEZONE
BEGIN:VTIMEZONE
TZID:UTC
BEGIN:STANDARD
TZOFFSETFROM:+0000
TZOFFSETTO:+0000
TZNAME:UTC
DTSTART:20240101T000000
END:STANDARD
END:VTIMEZONE
BEGIN:VEVENT
DTSTART;TZID=Australia/Melbourne:20250508T140000
DTEND;TZID=Australia/Melbourne:20250508T160000
DTSTAMP:20260424T024427
CREATED:20250331T234725Z
LAST-MODIFIED:20250331T234725Z
UID:13816-1746712800-1746720000@pwd.org.au
SUMMARY:Newtown - Drop-in Information Clinic May
DESCRIPTION:Connect with the team from People with Disability Australia to find out more about our advocacy and membership. We can help with housing\, health\, education\, police\, public transport\, guardianship\, and more. \nWe’ll be available at the One Stop Shop at Newtown Neighbourhood Centre\, Newtown. \nOne Stop Shop\nNewtown Neighbourhood Centre (NNC) hosts a weekly One Stop Shop\, bringing together a hub of essential services including Centrelink\, Haymarket Foundation and Orange Sky Laundry\, who can provide face-to-face assistance to all members of the community. \nWhen: Every Thursday from 2pm to 4pm – PWDA attends once a month.\nWhere: 11-13 Darley Street\, Newtown \nOur individual advocates are trained professionals who support or work on behalf of a person with disability to support them to speak out and defend their rights and interests as well as sort out complaints\, issues and problems. The service is free and confidential. \nBookings not required.
URL:https://pwd.org.au/event/newtown-drop-in-information-clinic-may/
LOCATION:Newtown Neighbourhood Centre\, 11-13 Darley St\, Newtown\, NSW\, 2042\, Australia
CATEGORIES:Outreach & clinics
ATTACH;FMTTYPE=image/jpeg:https://pwd.org.au/wp-content/uploads/2025/04/nnc-web-banner-oss2024-1200-628px_orig.jpg
ORGANIZER;CN="Newtown Neighbourhood Centre":MAILTO:information@newtowncentre.org
END:VEVENT
BEGIN:VEVENT
DTSTART;TZID=UTC:20250508T100000
DTEND;TZID=UTC:20250508T120000
DTSTAMP:20260424T024427
CREATED:20250331T235316Z
LAST-MODIFIED:20250331T235316Z
UID:13820-1746698400-1746705600@pwd.org.au
SUMMARY:Woolloomooloo - Drop-in Information Clinic
DESCRIPTION:Connect with the team from People with Disability Australia to find out more about our advocacy and membership. We can help with housing\, health\, education\, police\, public transport\, guardianship\, and more. \nWe’ll be available at the Ozanam Learning Centre\, St Vincent de Paul Society. \nOur individual advocates are trained professionals who support or work on behalf of a person with disability to support them to speak out and defend their rights and interests as well as sort out complaints\, issues and problems. The service is free and confidential. \nWhen:    Every second Thursday per month from 10am to 12pm \nWhere:   Ozanam Learning Centre\, Level 3\, 99 Forbes Street\, Woolloomooloo \nPWDA will occupy one consultation room (library) where clients can discuss issues. \nClients are not required to book\, however the team at Ozanam Learning Centre will assist with scheduling bookings if necessary (high demand). \nBookings not required.
URL:https://pwd.org.au/event/woolloomooloo-drop-in-information-clinic-7/
LOCATION:Vinnies Ozanam Learning Centre\, Level 3\, 99 Forbes Street\, Woolloomooloo\, New South Wales\, 2012\, Australia
CATEGORIES:Outreach & clinics
ATTACH;FMTTYPE=image/jpeg:https://pwd.org.au/wp-content/uploads/2023/09/community-space-blurred-scaled.jpg
END:VEVENT
BEGIN:VEVENT
DTSTART;TZID=Australia/Melbourne:20250502T093000
DTEND;TZID=Australia/Melbourne:20250502T153000
DTSTAMP:20260424T024427
CREATED:20250404T020239Z
LAST-MODIFIED:20250429T044646Z
UID:13889-1746178200-1746199800@pwd.org.au
SUMMARY:Building Access Workshop - Orange
DESCRIPTION:Free Building Access Workshop and Networking\nPeople with Disability Australia (PWDA) is excited to offer a free full-day workshop for domestic and family violence (DFV) services across the Central West regions to improve accessibility and inclusion for women and children with disability. \nThe training is delivered by a team of women with disability\, bringing lived experience and valuable insights to the forefront. \nComplimentary morning tea and lunch will be provided. \nWho can attend\nThis training is beneficial to staff and volunteers of domestic and family violence (DFV) services and other related organisations who support women and children. \nWhat you receive\n\nFree full-day Accessibility Workshop for your staff and volunteers\nFree templates and resources to improve access and inclusion.\n\nNo cost to participate.\nVenue: ibis Styles Orange\n146 Bathurst Road Orange NSW 2800 \nWhen: Friday 2 May 2025 \nTime: 9:30am – 3:30pm (AEST) \nRegister: Building Access Workshop and Networking
URL:https://pwd.org.au/event/building-access-workshop-orange/
CATEGORIES:Networking event,Workshop
ATTACH;FMTTYPE=image/png:https://pwd.org.au/wp-content/uploads/2025/01/PWDA-Building-Access-Workshops-2025_event-header.png
END:VEVENT
BEGIN:VEVENT
DTSTART;TZID=UTC:20250501T100000
DTEND;TZID=UTC:20250501T123000
DTSTAMP:20260424T024427
CREATED:20250401T002300Z
LAST-MODIFIED:20250414T042644Z
UID:13827-1746093600-1746102600@pwd.org.au
SUMMARY:Bondi Junction - Ready-Set-Connect
DESCRIPTION:Connect with the team from People with Disability Australia to find out more about our advocacy and membership. We can help with housing\, health\, education\, police\, public transport\, guardianship\, and more. \nReady-Set-Connect brings together service providers with Parents/Carers\, Support Coordinators\, Teachers and LACs in a fun and interactive speed dating format. \nPWDA will have a stall available at the Easts Sydney Event in Bondi Junction. \nOur individual advocates are trained professionals who support or work on behalf of a person with disability to support them to speak out and defend their rights and interests as well as sort out complaints\, issues and problems. The service is free and confidential. \nBookings not required.
URL:https://pwd.org.au/event/bondi-junction-ready-set-connect/
LOCATION:East Sydney\, 93-97 Spring Street\, Bondi Junction\, NSW\, Australia
CATEGORIES:Networking event,Outreach & clinics
ATTACH;FMTTYPE=image/png:https://pwd.org.au/wp-content/uploads/2024/01/Untitled-design-1.png
END:VEVENT
END:VCALENDAR